BEGIN:VCALENDAR
VERSION:2.0
CALSCALE:GREGORIAN
METHOD:PUBLISH
X-WR-TIMEZONE:UTC
BEGIN:VEVENT
SUMMARY:CAMINADA SALUDABLE
DTSTART:20260528T210000Z
DTEND:20260528T103000Z
DTSTAMP:20260422T115432Z
UID:https://inscripcions.reus.cat/caminadasaludable
CATEGORIES:
DESCRIPTION:https://inscripcions.reus.cat/caminadasaludable
GEO:0.0;0.0
LOCATION:Plaça de la Patacada Plaça de la Patacada\, 43201
URL:https://inscripcions.reus.cat/caminadasaludable
END:VEVENT
END:VCALENDAR
