BEGIN:VCALENDAR
VERSION:2.0
CALSCALE:GREGORIAN
METHOD:PUBLISH
X-WR-TIMEZONE:UTC
BEGIN:VEVENT
SUMMARY:Camins conscients: Tallers guiats de minduflness o atenció plena
DTSTART:20260505T153000Z
DTEND:20260505T163000Z
DTSTAMP:20260421T052601Z
UID:https://inscripcions.reus.cat/caminsconscientstallersguiatsdeminduflne
 ssoatencioplena1
CATEGORIES:
DESCRIPTION:https://inscripcions.reus.cat/caminsconscientstallersguiatsdem
 induflnessoatencioplena1
GEO:0.0;0.0
LOCATION:Parc Gandhi Carrer Pare Joaquim Roig S.F.\, 10\, 43202 Reus\, Tar
 ragona\, 43202
URL:https://inscripcions.reus.cat/caminsconscientstallersguiatsdeminduflne
 ssoatencioplena1
END:VEVENT
END:VCALENDAR
