BEGIN:VCALENDAR
VERSION:2.0
CALSCALE:GREGORIAN
METHOD:PUBLISH
X-WR-TIMEZONE:UTC
BEGIN:VEVENT
SUMMARY:Capturant el malestar. Taller creatiu per canalitzar el benestar e
 mocional
DTSTART:20260504T150000Z
DTEND:20260518T170000Z
DTSTAMP:20260420T194752Z
UID:https://inscripcions.reus.cat/capturantelmalestartallercreatiupercanal
 itzarelbenestaremocional
CATEGORIES:
DESCRIPTION:https://inscripcions.reus.cat/capturantelmalestartallercreatiu
 percanalitzarelbenestaremocional
GEO:0.0;0.0
LOCATION:Casal de Joves la Palma C. Castellvell\, 24\, 43202
URL:https://inscripcions.reus.cat/capturantelmalestartallercreatiupercanal
 itzarelbenestaremocional
END:VEVENT
END:VCALENDAR
