BEGIN:VCALENDAR
VERSION:2.0
CALSCALE:GREGORIAN
METHOD:PUBLISH
X-WR-TIMEZONE:UTC
BEGIN:VEVENT
SUMMARY:CINEFÒRUM "ENTRE NOSOTRAS" 2019
DTSTART:20260513T150000Z
DTEND:20260513T173000Z
DTSTAMP:20260422T130713Z
UID:https://inscripcions.reus.cat/cineforumentrenosotras2019
CATEGORIES:
DESCRIPTION:https://inscripcions.reus.cat/cineforumentrenosotras2019
GEO:0.0;0.0
LOCATION:Centre Cívic Gregal Carrer d'Antoni Gaudí\, 18\, 43201
URL:https://inscripcions.reus.cat/cineforumentrenosotras2019
END:VEVENT
END:VCALENDAR
