BEGIN:VCALENDAR
VERSION:2.0
CALSCALE:GREGORIAN
METHOD:PUBLISH
X-WR-TIMEZONE:UTC
BEGIN:VEVENT
SUMMARY:Curs de Monitor/a d'activitats de dinamització en l'àmbit polies
 portiu
DTSTART:20260630T070000Z
DTEND:20260731T180000Z
DTSTAMP:20260419T153355Z
UID:https://inscripcions.reus.cat/cursdemonitoradactivitatsdedinamitzacioe
 nlambitpoliesportiu
CATEGORIES:
DESCRIPTION:https://inscripcions.reus.cat/cursdemonitoradactivitatsdedinam
 itzacioenlambitpoliesportiu
GEO:0.0;0.0
LOCATION:Consell Comarcal del Baix Camp Carrer del Dr. Ferran\, 8\, 43202
URL:https://inscripcions.reus.cat/cursdemonitoradactivitatsdedinamitzacioe
 nlambitpoliesportiu
END:VEVENT
END:VCALENDAR
