BEGIN:VCALENDAR
VERSION:2.0
CALSCALE:GREGORIAN
METHOD:PUBLISH
X-WR-TIMEZONE:UTC
BEGIN:VEVENT
SUMMARY:Curs de Monitor/a de lleure 2026
DTSTART:20260630T070000Z
DTEND:20260803T170000Z
DTSTAMP:20260419T153215Z
UID:https://inscripcions.reus.cat/cursdemonitoradelleure2026
CATEGORIES:
DESCRIPTION:https://inscripcions.reus.cat/cursdemonitoradelleure2026
GEO:0.0;0.0
LOCATION:Casal de Joves la Palma C. Castellvell\, 24\, 43202
URL:https://inscripcions.reus.cat/cursdemonitoradelleure2026
END:VEVENT
END:VCALENDAR
