BEGIN:VCALENDAR
VERSION:2.0
CALSCALE:GREGORIAN
METHOD:PUBLISH
X-WR-TIMEZONE:UTC
BEGIN:VEVENT
SUMMARY:DONES\, salut! Acció per a la salut de les dones 2026
DTSTART:20260504T070000Z
DTEND:20260504T083000Z
DTSTAMP:20260422T023349Z
UID:https://inscripcions.reus.cat/donessalutaccioperalasalutdelesdones2026
CATEGORIES:
DESCRIPTION:https://inscripcions.reus.cat/donessalutaccioperalasalutdelesd
 ones2026
GEO:0.0;0.0
LOCATION:Centres Cívics DIFERENTS UBICACIONS\, 43201
URL:https://inscripcions.reus.cat/donessalutaccioperalasalutdelesdones2026
END:VEVENT
END:VCALENDAR
