BEGIN:VCALENDAR
VERSION:2.0
CALSCALE:GREGORIAN
METHOD:PUBLISH
X-WR-TIMEZONE:UTC
BEGIN:VEVENT
SUMMARY:Menopausa\, la vida sense regles
DTSTART:20260506T090000Z
DTEND:20260506T103000Z
DTSTAMP:20260424T194743Z
UID:https://inscripcions.reus.cat/menopausalavidasenseregles
CATEGORIES:
DESCRIPTION:https://inscripcions.reus.cat/menopausalavidasenseregles
GEO:0.0;0.0
LOCATION:Centre Cívic Gregal // CC Del Carme Carrer d'Antoni Gaudí\, 18\
 , 43201
URL:https://inscripcions.reus.cat/menopausalavidasenseregles
END:VEVENT
END:VCALENDAR
