BEGIN:VCALENDAR
VERSION:2.0
CALSCALE:GREGORIAN
METHOD:PUBLISH
X-WR-TIMEZONE:UTC
BEGIN:VEVENT
SUMMARY:Sessions obligatòries requisit de les subvencions per a afavorir 
 l'impuls i la dinamització econòmica 2026
DTSTART:20260422T090000Z
DTEND:20260630T090000Z
DTSTAMP:20260422T093834Z
UID:https://inscripcions.reus.cat/sessionsobligatoriesrequisitdelessubvenc
 ionsperaafavorirlimpulsiladinamitzacioeconomica2026
CATEGORIES:
DESCRIPTION:https://inscripcions.reus.cat/sessionsobligatoriesrequisitdele
 ssubvencionsperaafavorirlimpulsiladinamitzacioeconomica2026
GEO:0.0;0.0
LOCATION:Antic Hospital Sant Joan Carrer de Sant Joan\, 34B\, 2a planta\, 
 43201
URL:https://inscripcions.reus.cat/sessionsobligatoriesrequisitdelessubvenc
 ionsperaafavorirlimpulsiladinamitzacioeconomica2026
END:VEVENT
END:VCALENDAR
